BEGIN:VCALENDAR
VERSION:2.0
PRODID:Events Booking
BEGIN:VEVENT
UID:69ed7bde8c242
SUMMARY:Gyászkísérő csoportvezetés képzés (A gyászolók segítése 
 és a gyászcsoportvezetés gyakorlata)
DESCRIPTION:A Napfogyatkozás Egyesület képzése elsősorban olyan szemé
 lyek részére ajánlott\, akik szívesen vállalnák önsegítő gyászfe
 ldolgozó csoportok szervezését és vezetését\, de azok számára is h
 asznos tudást nyújt\, akik segítő hívatásuk során gyakran találkoz
 nak veszteségeket elszenvedett személyekkel.
 &nbsp\;
DTSTART:20260626T070000Z
DTEND:20260628T140000Z
DTSTAMP:20260325T080845Z
ORGANIZER;CN=Napfogyatkozás Egyesület:MAILTO:napfogyatkozas@gyaszportal.h
 u
END:VEVENT
END:VCALENDAR