BEGIN:VCALENDAR
VERSION:2.0
PRODID:Events Booking
BEGIN:VEVENT
UID:69ed7c04595ab
SUMMARY:Burnout - A kiégés és a veszteségek kapcsolata
DESCRIPTION:A Napfogyatkozás Akadémia online konferenciájának következ
 ő eseménye a kiégés a veszteségek folyamatának a kölcsönhatásair
 ól
LOCATION:Online
DTSTART:20260508T070000Z
DTEND:20260508T120000Z
DTSTAMP:20260401T125004Z
ORGANIZER;CN=Napfogyatkozás Egyesület:MAILTO:napfogyatkozas@gyaszportal.h
 u
END:VEVENT
END:VCALENDAR